Workbook

Sheet Resumo
A2: Formulário de candidatura FEM
A3: Proposta melhorada do modelo DGAL. Começar por Entidade e seguir as instruções de preenchimento.
A4: Amarelo: requerente. Cinzento: cálculo. Lilás: CCDR. Não alterar os identificadores.
A6: ID intervenção | B6: Designação | C6: Custo bruto apresentado | D6: Custo proposto para apoio | E6: Coberturas sobre custo proposto | F6: Base líquida estimada | G6: FEM máximo estimado | H6: Situação do cálculo | I6: Conclusão da CCDR | J6: Apoio proposto pela CCDR
A7: =IF(NOT(Intervencoes!B7<>""),"",IF(Intervencoes!A7="","",Intervencoes!A7)) | B7: =IF(NOT(Intervencoes!B7<>""),"",IF(Intervencoes!B7="","",Intervencoes!B7)) | C7: =IF(NOT(Intervencoes!B7<>""),"",IF(INDEX(Financiamento!$H$7:$H$106,MATCH(A7,Financiamento!$A$7:$A$106,0))="","",INDEX(Financiamento!$H$7:$H$106,MATCH(A7,Financiamento!$A$7:$A$106,0)))) | D7: =IF(NOT(Intervencoes!B7<>""),"",IF(INDEX(Financiamento!$J$7:$J$106,MATCH(A7,Financiamento!$A$7:$A$106,0))="","",INDEX(Financiamento!$J$7:$J$106,MATCH(A7,Financiamento!$A$7:$A$106,0)))) | E7: =IF(NOT(Intervencoes!B7<>""),"",IF(INDEX(Financiamento!$L$7:$L$106,MATCH(A7,Financiamento!$A$7:$A$106,0))="","",INDEX(Financiamento!$L$7:$L$106,MATCH(A7,Financiamento!$A$7:$A$106,0)))) | F7: =IF(NOT(Intervencoes!B7<>""),"",IF(INDEX(Financiamento!$M$7:$M$106,MATCH(A7,Financiamento!$A$7:$A$106,0))="","",INDEX(Financiamento!$M$7:$M$106,MATCH(A7,Financiamento!$A$7:$A$106,0)))) | G7: =IF(NOT(Intervencoes!B7<>""),"",IF(INDEX(Financiamento!$N$7:$N$106,MATCH(A7,Financiamento!$A$7:$A$106,0))="","",INDEX(Financiamento!$N$7:$N$106,MATCH(A7,Financiamento!$A$7:$A$106,0)))) | H7: =IF(NOT(Intervencoes!B7<>""),"",IF(INDEX(Financiamento!$Q$7:$Q$106,MATCH(A7,Financiamento!$A$7:$A$106,0))="","",INDEX(Financiamento!$Q$7:$Q$106,MATCH(A7,Financiamento!$A$7:$A$106,0)))) | I7: =IF(NOT(Intervencoes!B7<>""),"",IF(INDEX(Analise!$K$7:$K$106,MATCH(A7,Analise!$A$7:$A$106,0))="","",INDEX(Analise!$K$7:$K$106,MATCH(A7,Analise!$A$7:$A$106,0)))) | J7: =IF(NOT(Intervencoes!B7<>""),"",IF(INDEX(Analise!$S$7:$S$106,MATCH(A7,Analise!$A$7:$A$106,0))="","",INDEX(Analise!$S$7:$S$106,MATCH(A7,Analise!$A$7:$A$106,0))))
A8: =IF(NOT(Intervencoes!B8<>""),"",IF(Intervencoes!A8="","",Intervencoes!A8)) | B8: =IF(NOT(Intervencoes!B8<>""),"",IF(Intervencoes!B8="","",Intervencoes!B8)) | C8: =IF(NOT(Intervencoes!B8<>""),"",IF(INDEX(Financiamento!$H$7:$H$106,MATCH(A8,Financiamento!$A$7:$A$106,0))="","",INDEX(Financiamento!$H$7:$H$106,MATCH(A8,Financiamento!$A$7:$A$106,0)))) | D8: =IF(NOT(Intervencoes!B8<>""),"",IF(INDEX(Financiamento!$J$7:$J$106,MATCH(A8,Financiamento!$A$7:$A$106,0))="","",INDEX(Financiamento!$J$7:$J$106,MATCH(A8,Financiamento!$A$7:$A$106,0)))) | E8: =IF(NOT(Intervencoes!B8<>""),"",IF(INDEX(Financiamento!$L$7:$L$106,MATCH(A8,Financiamento!$A$7:$A$106,0))="","",INDEX(Financiamento!$L$7:$L$106,MATCH(A8,Financiamento!$A$7:$A$106,0)))) | F8: =IF(NOT(Intervencoes!B8<>""),"",IF(INDEX(Financiamento!$M$7:$M$106,MATCH(A8,Financiamento!$A$7:$A$106,0))="","",INDEX(Financiamento!$M$7:$M$106,MATCH(A8,Financiamento!$A$7:$A$106,0)))) | G8: =IF(NOT(Intervencoes!B8<>""),"",IF(INDEX(Financiamento!$N$7:$N$106,MATCH(A8,Financiamento!$A$7:$A$106,0))="","",INDEX(Financiamento!$N$7:$N$106,MATCH(A8,Financiamento!$A$7:$A$106,0)))) | H8: =IF(NOT(Intervencoes!B8<>""),"",IF(INDEX(Financiamento!$Q$7:$Q$106,MATCH(A8,Financiamento!$A$7:$A$106,0))="","",INDEX(Financiamento!$Q$7:$Q$106,MATCH(A8,Financiamento!$A$7:$A$106,0)))) | I8: =IF(NOT(Intervencoes!B8<>""),"",IF(INDEX(Analise!$K$7:$K$106,MATCH(A8,Analise!$A$7:$A$106,0))="","",INDEX(Analise!$K$7:$K$106,MATCH(A8,Analise!$A$7:$A$106,0)))) | J8: =IF(NOT(Intervencoes!B8<>""),"",IF(INDEX(Analise!$S$7:$S$106,MATCH(A8,Analise!$A$7:$A$106,0))="","",INDEX(Analise!$S$7:$S$106,MATCH(A8,Analise!$A$7:$A$106,0))))
A9: =IF(NOT(Intervencoes!B9<>""),"",IF(Intervencoes!A9="","",Intervencoes!A9)) | B9: =IF(NOT(Intervencoes!B9<>""),"",IF(Intervencoes!B9="","",Intervencoes!B9)) | C9: =IF(NOT(Intervencoes!B9<>""),"",IF(INDEX(Financiamento!$H$7:$H$106,MATCH(A9,Financiamento!$A$7:$A$106,0))="","",INDEX(Financiamento!$H$7:$H$106,MATCH(A9,Financiamento!$A$7:$A$106,0)))) | D9: =IF(NOT(Intervencoes!B9<>""),"",IF(INDEX(Financiamento!$J$7:$J$106,MATCH(A9,Financiamento!$A$7:$A$106,0))="","",INDEX(Financiamento!$J$7:$J$106,MATCH(A9,Financiamento!$A$7:$A$106,0)))) | E9: =IF(NOT(Intervencoes!B9<>""),"",IF(INDEX(Financiamento!$L$7:$L$106,MATCH(A9,Financiamento!$A$7:$A$106,0))="","",INDEX(Financiamento!$L$7:$L$106,MATCH(A9,Financiamento!$A$7:$A$106,0)))) | F9: =IF(NOT(Intervencoes!B9<>""),"",IF(INDEX(Financiamento!$M$7:$M$106,MATCH(A9,Financiamento!$A$7:$A$106,0))="","",INDEX(Financiamento!$M$7:$M$106,MATCH(A9,Financiamento!$A$7:$A$106,0)))) | G9: =IF(NOT(Intervencoes!B9<>""),"",IF(INDEX(Financiamento!$N$7:$N$106,MATCH(A9,Financiamento!$A$7:$A$106,0))="","",INDEX(Financiamento!$N$7:$N$106,MATCH(A9,Financiamento!$A$7:$A$106,0)))) | H9: =IF(NOT(Intervencoes!B9<>""),"",IF(INDEX(Financiamento!$Q$7:$Q$106,MATCH(A9,Financiamento!$A$7:$A$106,0))="","",INDEX(Financiamento!$Q$7:$Q$106,MATCH(A9,Financiamento!$A$7:$A$106,0)))) | I9: =IF(NOT(Intervencoes!B9<>""),"",IF(INDEX(Analise!$K$7:$K$106,MATCH(A9,Analise!$A$7:$A$106,0))="","",INDEX(Analise!$K$7:$K$106,MATCH(A9,Analise!$A$7:$A$106,0)))) | J9: =IF(NOT(Intervencoes!B9<>""),"",IF(INDEX(Analise!$S$7:$S$106,MATCH(A9,Analise!$A$7:$A$106,0))="","",INDEX(Analise!$S$7:$S$106,MATCH(A9,Analise!$A$7:$A$106,0))))
A10: =IF(NOT(Intervencoes!B10<>""),"",IF(Intervencoes!A10="","",Intervencoes!A10)) | B10: =IF(NOT(Intervencoes!B10<>""),"",IF(Intervencoes!B10="","",Intervencoes!B10)) | C10: =IF(NOT(Intervencoes!B10<>""),"",IF(INDEX(Financiamento!$H$7:$H$106,MATCH(A10,Financiamento!$A$7:$A$106,0))="","",INDEX(Financiamento!$H$7:$H$106,MATCH(A10,Financiamento!$A$7:$A$106,0)))) | D10: =IF(NOT(Intervencoes!B10<>""),"",IF(INDEX(Financiamento!$J$7:$J$106,MATCH(A10,Financiamento!$A$7:$A$106,0))="","",INDEX(Financiamento!$J$7:$J$106,MATCH(A10,Financiamento!$A$7:$A$106,0)))) | E10: =IF(NOT(Intervencoes!B10<>""),"",IF(INDEX(Financiamento!$L$7:$L$106,MATCH(A10,Financiamento!$A$7:$A$106,0))="","",INDEX(Financiamento!$L$7:$L$106,MATCH(A10,Financiamento!$A$7:$A$106,0)))) | F10: =IF(NOT(Intervencoes!B10<>""),"",IF(INDEX(Financiamento!$M$7:$M$106,MATCH(A10,Financiamento!$A$7:$A$106,0))="","",INDEX(Financiamento!$M$7:$M$106,MATCH(A10,Financiamento!$A$7:$A$106,0)))) | G10: =IF(NOT(Intervencoes!B10<>""),"",IF(INDEX(Financiamento!$N$7:$N$106,MATCH(A10,Financiamento!$A$7:$A$106,0))="","",INDEX(Financiamento!$N$7:$N$106,MATCH(A10,Financiamento!$A$7:$A$106,0)))) | H10: =IF(NOT(Intervencoes!B10<>""),"",IF(INDEX(Financiamento!$Q$7:$Q$106,MATCH(A10,Financiamento!$A$7:$A$106,0))="","",INDEX(Financiamento!$Q$7:$Q$106,MATCH(A10,Financiamento!$A$7:$A$106,0)))) | I10: =IF(NOT(Intervencoes!B10<>""),"",IF(INDEX(Analise!$K$7:$K$106,MATCH(A10,Analise!$A$7:$A$106,0))="","",INDEX(Analise!$K$7:$K$106,MATCH(A10,Analise!$A$7:$A$106,0)))) | J10: =IF(NOT(Intervencoes!B10<>""),"",IF(INDEX(Analise!$S$7:$S$106,MATCH(A10,Analise!$A$7:$A$106,0))="","",INDEX(Analise!$S$7:$S$106,MATCH(A10,Analise!$A$7:$A$106,0))))
A11: =IF(NOT(Intervencoes!B11<>""),"",IF(Intervencoes!A11="","",Intervencoes!A11)) | B11: =IF(NOT(Intervencoes!B11<>""),"",IF(Intervencoes!B11="","",Intervencoes!B11)) | C11: =IF(NOT(Intervencoes!B11<>""),"",IF(INDEX(Financiamento!$H$7:$H$106,MATCH(A11,Financiamento!$A$7:$A$106,0))="","",INDEX(Financiamento!$H$7:$H$106,MATCH(A11,Financiamento!$A$7:$A$106,0)))) | D11: =IF(NOT(Intervencoes!B11<>""),"",IF(INDEX(Financiamento!$J$7:$J$106,MATCH(A11,Financiamento!$A$7:$A$106,0))="","",INDEX(Financiamento!$J$7:$J$106,MATCH(A11,Financiamento!$A$7:$A$106,0)))) | E11: =IF(NOT(Intervencoes!B11<>""),"",IF(INDEX(Financiamento!$L$7:$L$106,MATCH(A11,Financiamento!$A$7:$A$106,0))="","",INDEX(Financiamento!$L$7:$L$106,MATCH(A11,Financiamento!$A$7:$A$106,0)))) | F11: =IF(NOT(Intervencoes!B11<>""),"",IF(INDEX(Financiamento!$M$7:$M$106,MATCH(A11,Financiamento!$A$7:$A$106,0))="","",INDEX(Financiamento!$M$7:$M$106,MATCH(A11,Financiamento!$A$7:$A$106,0)))) | G11: =IF(NOT(Intervencoes!B11<>""),"",IF(INDEX(Financiamento!$N$7:$N$106,MATCH(A11,Financiamento!$A$7:$A$106,0))="","",INDEX(Financiamento!$N$7:$N$106,MATCH(A11,Financiamento!$A$7:$A$106,0)))) | H11: =IF(NOT(Intervencoes!B11<>""),"",IF(INDEX(Financiamento!$Q$7:$Q$106,MATCH(A11,Financiamento!$A$7:$A$106,0))="","",INDEX(Financiamento!$Q$7:$Q$106,MATCH(A11,Financiamento!$A$7:$A$106,0)))) | I11: =IF(NOT(Intervencoes!B11<>""),"",IF(INDEX(Analise!$K$7:$K$106,MATCH(A11,Analise!$A$7:$A$106,0))="","",INDEX(Analise!$K$7:$K$106,MATCH(A11,Analise!$A$7:$A$106,0)))) | J11: =IF(NOT(Intervencoes!B11<>""),"",IF(INDEX(Analise!$S$7:$S$106,MATCH(A11,Analise!$A$7:$A$106,0))="","",INDEX(Analise!$S$7:$S$106,MATCH(A11,Analise!$A$7:$A$106,0))))
A12: =IF(NOT(Intervencoes!B12<>""),"",IF(Intervencoes!A12="","",Intervencoes!A12)) | B12: =IF(NOT(Intervencoes!B12<>""),"",IF(Intervencoes!B12="","",Intervencoes!B12)) | C12: =IF(NOT(Intervencoes!B12<>""),"",IF(INDEX(Financiamento!$H$7:$H$106,MATCH(A12,Financiamento!$A$7:$A$106,0))="","",INDEX(Financiamento!$H$7:$H$106,MATCH(A12,Financiamento!$A$7:$A$106,0)))) | D12: =IF(NOT(Intervencoes!B12<>""),"",IF(INDEX(Financiamento!$J$7:$J$106,MATCH(A12,Financiamento!$A$7:$A$106,0))="","",INDEX(Financiamento!$J$7:$J$106,MATCH(A12,Financiamento!$A$7:$A$106,0)))) | E12: =IF(NOT(Intervencoes!B12<>""),"",IF(INDEX(Financiamento!$L$7:$L$106,MATCH(A12,Financiamento!$A$7:$A$106,0))="","",INDEX(Financiamento!$L$7:$L$106,MATCH(A12,Financiamento!$A$7:$A$106,0)))) | F12: =IF(NOT(Intervencoes!B12<>""),"",IF(INDEX(Financiamento!$M$7:$M$106,MATCH(A12,Financiamento!$A$7:$A$106,0))="","",INDEX(Financiamento!$M$7:$M$106,MATCH(A12,Financiamento!$A$7:$A$106,0)))) | G12: =IF(NOT(Intervencoes!B12<>""),"",IF(INDEX(Financiamento!$N$7:$N$106,MATCH(A12,Financiamento!$A$7:$A$106,0))="","",INDEX(Financiamento!$N$7:$N$106,MATCH(A12,Financiamento!$A$7:$A$106,0)))) | H12: =IF(NOT(Intervencoes!B12<>""),"",IF(INDEX(Financiamento!$Q$7:$Q$106,MATCH(A12,Financiamento!$A$7:$A$106,0))="","",INDEX(Financiamento!$Q$7:$Q$106,MATCH(A12,Financiamento!$A$7:$A$106,0)))) | I12: =IF(NOT(Intervencoes!B12<>""),"",IF(INDEX(Analise!$K$7:$K$106,MATCH(A12,Analise!$A$7:$A$106,0))="","",INDEX(Analise!$K$7:$K$106,MATCH(A12,Analise!$A$7:$A$106,0)))) | J12: =IF(NOT(Intervencoes!B12<>""),"",IF(INDEX(Analise!$S$7:$S$106,MATCH(A12,Analise!$A$7:$A$106,0))="","",INDEX(Analise!$S$7:$S$106,MATCH(A12,Analise!$A$7:$A$106,0))))
A13: =IF(NOT(Intervencoes!B13<>""),"",IF(Intervencoes!A13="","",Intervencoes!A13)) | B13: =IF(NOT(Intervencoes!B13<>""),"",IF(Intervencoes!B13="","",Intervencoes!B13)) | C13: =IF(NOT(Intervencoes!B13<>""),"",IF(INDEX(Financiamento!$H$7:$H$106,MATCH(A13,Financiamento!$A$7:$A$106,0))="","",INDEX(Financiamento!$H$7:$H$106,MATCH(A13,Financiamento!$A$7:$A$106,0)))) | D13: =IF(NOT(Intervencoes!B13<>""),"",IF(INDEX(Financiamento!$J$7:$J$106,MATCH(A13,Financiamento!$A$7:$A$106,0))="","",INDEX(Financiamento!$J$7:$J$106,MATCH(A13,Financiamento!$A$7:$A$106,0)))) | E13: =IF(NOT(Intervencoes!B13<>""),"",IF(INDEX(Financiamento!$L$7:$L$106,MATCH(A13,Financiamento!$A$7:$A$106,0))="","",INDEX(Financiamento!$L$7:$L$106,MATCH(A13,Financiamento!$A$7:$A$106,0)))) | F13: =IF(NOT(Intervencoes!B13<>""),"",IF(INDEX(Financiamento!$M$7:$M$106,MATCH(A13,Financiamento!$A$7:$A$106,0))="","",INDEX(Financiamento!$M$7:$M$106,MATCH(A13,Financiamento!$A$7:$A$106,0)))) | G13: =IF(NOT(Intervencoes!B13<>""),"",IF(INDEX(Financiamento!$N$7:$N$106,MATCH(A13,Financiamento!$A$7:$A$106,0))="","",INDEX(Financiamento!$N$7:$N$106,MATCH(A13,Financiamento!$A$7:$A$106,0)))) | H13: =IF(NOT(Intervencoes!B13<>""),"",IF(INDEX(Financiamento!$Q$7:$Q$106,MATCH(A13,Financiamento!$A$7:$A$106,0))="","",INDEX(Financiamento!$Q$7:$Q$106,MATCH(A13,Financiamento!$A$7:$A$106,0)))) | I13: =IF(NOT(Intervencoes!B13<>""),"",IF(INDEX(Analise!$K$7:$K$106,MATCH(A13,Analise!$A$7:$A$106,0))="","",INDEX(Analise!$K$7:$K$106,MATCH(A13,Analise!$A$7:$A$106,0)))) | J13: =IF(NOT(Intervencoes!B13<>""),"",IF(INDEX(Analise!$S$7:$S$106,MATCH(A13,Analise!$A$7:$A$106,0))="","",INDEX(Analise!$S$7:$S$106,MATCH(A13,Analise!$A$7:$A$106,0))))
A14: =IF(NOT(Intervencoes!B14<>""),"",IF(Intervencoes!A14="","",Intervencoes!A14)) | B14: =IF(NOT(Intervencoes!B14<>""),"",IF(Intervencoes!B14="","",Intervencoes!B14)) | C14: =IF(NOT(Intervencoes!B14<>""),"",IF(INDEX(Financiamento!$H$7:$H$106,MATCH(A14,Financiamento!$A$7:$A$106,0))="","",INDEX(Financiamento!$H$7:$H$106,MATCH(A14,Financiamento!$A$7:$A$106,0)))) | D14: =IF(NOT(Intervencoes!B14<>""),"",IF(INDEX(Financiamento!$J$7:$J$106,MATCH(A14,Financiamento!$A$7:$A$106,0))="","",INDEX(Financiamento!$J$7:$J$106,MATCH(A14,Financiamento!$A$7:$A$106,0)))) | E14: =IF(NOT(Intervencoes!B14<>""),"",IF(INDEX(Financiamento!$L$7:$L$106,MATCH(A14,Financiamento!$A$7:$A$106,0))="","",INDEX(Financiamento!$L$7:$L$106,MATCH(A14,Financiamento!$A$7:$A$106,0)))) | F14: =IF(NOT(Intervencoes!B14<>""),"",IF(INDEX(Financiamento!$M$7:$M$106,MATCH(A14,Financiamento!$A$7:$A$106,0))="","",INDEX(Financiamento!$M$7:$M$106,MATCH(A14,Financiamento!$A$7:$A$106,0)))) | G14: =IF(NOT(Intervencoes!B14<>""),"",IF(INDEX(Financiamento!$N$7:$N$106,MATCH(A14,Financiamento!$A$7:$A$106,0))="","",INDEX(Financiamento!$N$7:$N$106,MATCH(A14,Financiamento!$A$7:$A$106,0)))) | H14: =IF(NOT(Intervencoes!B14<>""),"",IF(INDEX(Financiamento!$Q$7:$Q$106,MATCH(A14,Financiamento!$A$7:$A$106,0))="","",INDEX(Financiamento!$Q$7:$Q$106,MATCH(A14,Financiamento!$A$7:$A$106,0)))) | I14: =IF(NOT(Intervencoes!B14<>""),"",IF(INDEX(Analise!$K$7:$K$106,MATCH(A14,Analise!$A$7:$A$106,0))="","",INDEX(Analise!$K$7:$K$106,MATCH(A14,Analise!$A$7:$A$106,0)))) | J14: =IF(NOT(Intervencoes!B14<>""),"",IF(INDEX(Analise!$S$7:$S$106,MATCH(A14,Analise!$A$7:$A$106,0))="","",INDEX(Analise!$S$7:$S$106,MATCH(A14,Analise!$A$7:$A$106,0))))
A15: =IF(NOT(Intervencoes!B15<>""),"",IF(Intervencoes!A15="","",Intervencoes!A15)) | B15: =IF(NOT(Intervencoes!B15<>""),"",IF(Intervencoes!B15="","",Intervencoes!B15)) | C15: =IF(NOT(Intervencoes!B15<>""),"",IF(INDEX(Financiamento!$H$7:$H$106,MATCH(A15,Financiamento!$A$7:$A$106,0))="","",INDEX(Financiamento!$H$7:$H$106,MATCH(A15,Financiamento!$A$7:$A$106,0)))) | D15: =IF(NOT(Intervencoes!B15<>""),"",IF(INDEX(Financiamento!$J$7:$J$106,MATCH(A15,Financiamento!$A$7:$A$106,0))="","",INDEX(Financiamento!$J$7:$J$106,MATCH(A15,Financiamento!$A$7:$A$106,0)))) | E15: =IF(NOT(Intervencoes!B15<>""),"",IF(INDEX(Financiamento!$L$7:$L$106,MATCH(A15,Financiamento!$A$7:$A$106,0))="","",INDEX(Financiamento!$L$7:$L$106,MATCH(A15,Financiamento!$A$7:$A$106,0)))) | F15: =IF(NOT(Intervencoes!B15<>""),"",IF(INDEX(Financiamento!$M$7:$M$106,MATCH(A15,Financiamento!$A$7:$A$106,0))="","",INDEX(Financiamento!$M$7:$M$106,MATCH(A15,Financiamento!$A$7:$A$106,0)))) | G15: =IF(NOT(Intervencoes!B15<>""),"",IF(INDEX(Financiamento!$N$7:$N$106,MATCH(A15,Financiamento!$A$7:$A$106,0))="","",INDEX(Financiamento!$N$7:$N$106,MATCH(A15,Financiamento!$A$7:$A$106,0)))) | H15: =IF(NOT(Intervencoes!B15<>""),"",IF(INDEX(Financiamento!$Q$7:$Q$106,MATCH(A15,Financiamento!$A$7:$A$106,0))="","",INDEX(Financiamento!$Q$7:$Q$106,MATCH(A15,Financiamento!$A$7:$A$106,0)))) | I15: =IF(NOT(Intervencoes!B15<>""),"",IF(INDEX(Analise!$K$7:$K$106,MATCH(A15,Analise!$A$7:$A$106,0))="","",INDEX(Analise!$K$7:$K$106,MATCH(A15,Analise!$A$7:$A$106,0)))) | J15: =IF(NOT(Intervencoes!B15<>""),"",IF(INDEX(Analise!$S$7:$S$106,MATCH(A15,Analise!$A$7:$A$106,0))="","",INDEX(Analise!$S$7:$S$106,MATCH(A15,Analise!$A$7:$A$106,0))))
A16: =IF(NOT(Intervencoes!B16<>""),"",IF(Intervencoes!A16="","",Intervencoes!A16)) | B16: =IF(NOT(Intervencoes!B16<>""),"",IF(Intervencoes!B16="","",Intervencoes!B16)) | C16: =IF(NOT(Intervencoes!B16<>""),"",IF(INDEX(Financiamento!$H$7:$H$106,MATCH(A16,Financiamento!$A$7:$A$106,0))="","",INDEX(Financiamento!$H$7:$H$106,MATCH(A16,Financiamento!$A$7:$A$106,0)))) | D16: =IF(NOT(Intervencoes!B16<>""),"",IF(INDEX(Financiamento!$J$7:$J$106,MATCH(A16,Financiamento!$A$7:$A$106,0))="","",INDEX(Financiamento!$J$7:$J$106,MATCH(A16,Financiamento!$A$7:$A$106,0)))) | E16: =IF(NOT(Intervencoes!B16<>""),"",IF(INDEX(Financiamento!$L$7:$L$106,MATCH(A16,Financiamento!$A$7:$A$106,0))="","",INDEX(Financiamento!$L$7:$L$106,MATCH(A16,Financiamento!$A$7:$A$106,0)))) | F16: =IF(NOT(Intervencoes!B16<>""),"",IF(INDEX(Financiamento!$M$7:$M$106,MATCH(A16,Financiamento!$A$7:$A$106,0))="","",INDEX(Financiamento!$M$7:$M$106,MATCH(A16,Financiamento!$A$7:$A$106,0)))) | G16: =IF(NOT(Intervencoes!B16<>""),"",IF(INDEX(Financiamento!$N$7:$N$106,MATCH(A16,Financiamento!$A$7:$A$106,0))="","",INDEX(Financiamento!$N$7:$N$106,MATCH(A16,Financiamento!$A$7:$A$106,0)))) | H16: =IF(NOT(Intervencoes!B16<>""),"",IF(INDEX(Financiamento!$Q$7:$Q$106,MATCH(A16,Financiamento!$A$7:$A$106,0))="","",INDEX(Financiamento!$Q$7:$Q$106,MATCH(A16,Financiamento!$A$7:$A$106,0)))) | I16: =IF(NOT(Intervencoes!B16<>""),"",IF(INDEX(Analise!$K$7:$K$106,MATCH(A16,Analise!$A$7:$A$106,0))="","",INDEX(Analise!$K$7:$K$106,MATCH(A16,Analise!$A$7:$A$106,0)))) | J16: =IF(NOT(Intervencoes!B16<>""),"",IF(INDEX(Analise!$S$7:$S$106,MATCH(A16,Analise!$A$7:$A$106,0))="","",INDEX(Analise!$S$7:$S$106,MATCH(A16,Analise!$A$7:$A$106,0))))
A17: =IF(NOT(Intervencoes!B17<>""),"",IF(Intervencoes!A17="","",Intervencoes!A17)) | B17: =IF(NOT(Intervencoes!B17<>""),"",IF(Intervencoes!B17="","",Intervencoes!B17)) | C17: =IF(NOT(Intervencoes!B17<>""),"",IF(INDEX(Financiamento!$H$7:$H$106,MATCH(A17,Financiamento!$A$7:$A$106,0))="","",INDEX(Financiamento!$H$7:$H$106,MATCH(A17,Financiamento!$A$7:$A$106,0)))) | D17: =IF(NOT(Intervencoes!B17<>""),"",IF(INDEX(Financiamento!$J$7:$J$106,MATCH(A17,Financiamento!$A$7:$A$106,0))="","",INDEX(Financiamento!$J$7:$J$106,MATCH(A17,Financiamento!$A$7:$A$106,0)))) | E17: =IF(NOT(Intervencoes!B17<>""),"",IF(INDEX(Financiamento!$L$7:$L$106,MATCH(A17,Financiamento!$A$7:$A$106,0))="","",INDEX(Financiamento!$L$7:$L$106,MATCH(A17,Financiamento!$A$7:$A$106,0)))) | F17: =IF(NOT(Intervencoes!B17<>""),"",IF(INDEX(Financiamento!$M$7:$M$106,MATCH(A17,Financiamento!$A$7:$A$106,0))="","",INDEX(Financiamento!$M$7:$M$106,MATCH(A17,Financiamento!$A$7:$A$106,0)))) | G17: =IF(NOT(Intervencoes!B17<>""),"",IF(INDEX(Financiamento!$N$7:$N$106,MATCH(A17,Financiamento!$A$7:$A$106,0))="","",INDEX(Financiamento!$N$7:$N$106,MATCH(A17,Financiamento!$A$7:$A$106,0)))) | H17: =IF(NOT(Intervencoes!B17<>""),"",IF(INDEX(Financiamento!$Q$7:$Q$106,MATCH(A17,Financiamento!$A$7:$A$106,0))="","",INDEX(Financiamento!$Q$7:$Q$106,MATCH(A17,Financiamento!$A$7:$A$106,0)))) | I17: =IF(NOT(Intervencoes!B17<>""),"",IF(INDEX(Analise!$K$7:$K$106,MATCH(A17,Analise!$A$7:$A$106,0))="","",INDEX(Analise!$K$7:$K$106,MATCH(A17,Analise!$A$7:$A$106,0)))) | J17: =IF(NOT(Intervencoes!B17<>""),"",IF(INDEX(Analise!$S$7:$S$106,MATCH(A17,Analise!$A$7:$A$106,0))="","",INDEX(Analise!$S$7:$S$106,MATCH(A17,Analise!$A$7:$A$106,0))))
A18: =IF(NOT(Intervencoes!B18<>""),"",IF(Intervencoes!A18="","",Intervencoes!A18)) | B18: =IF(NOT(Intervencoes!B18<>""),"",IF(Intervencoes!B18="","",Intervencoes!B18)) | C18: =IF(NOT(Intervencoes!B18<>""),"",IF(INDEX(Financiamento!$H$7:$H$106,MATCH(A18,Financiamento!$A$7:$A$106,0))="","",INDEX(Financiamento!$H$7:$H$106,MATCH(A18,Financiamento!$A$7:$A$106,0)))) | D18: =IF(NOT(Intervencoes!B18<>""),"",IF(INDEX(Financiamento!$J$7:$J$106,MATCH(A18,Financiamento!$A$7:$A$106,0))="","",INDEX(Financiamento!$J$7:$J$106,MATCH(A18,Financiamento!$A$7:$A$106,0)))) | E18: =IF(NOT(Intervencoes!B18<>""),"",IF(INDEX(Financiamento!$L$7:$L$106,MATCH(A18,Financiamento!$A$7:$A$106,0))="","",INDEX(Financiamento!$L$7:$L$106,MATCH(A18,Financiamento!$A$7:$A$106,0)))) | F18: =IF(NOT(Intervencoes!B18<>""),"",IF(INDEX(Financiamento!$M$7:$M$106,MATCH(A18,Financiamento!$A$7:$A$106,0))="","",INDEX(Financiamento!$M$7:$M$106,MATCH(A18,Financiamento!$A$7:$A$106,0)))) | G18: =IF(NOT(Intervencoes!B18<>""),"",IF(INDEX(Financiamento!$N$7:$N$106,MATCH(A18,Financiamento!$A$7:$A$106,0))="","",INDEX(Financiamento!$N$7:$N$106,MATCH(A18,Financiamento!$A$7:$A$106,0)))) | H18: =IF(NOT(Intervencoes!B18<>""),"",IF(INDEX(Financiamento!$Q$7:$Q$106,MATCH(A18,Financiamento!$A$7:$A$106,0))="","",INDEX(Financiamento!$Q$7:$Q$106,MATCH(A18,Financiamento!$A$7:$A$106,0)))) | I18: =IF(NOT(Intervencoes!B18<>""),"",IF(INDEX(Analise!$K$7:$K$106,MATCH(A18,Analise!$A$7:$A$106,0))="","",INDEX(Analise!$K$7:$K$106,MATCH(A18,Analise!$A$7:$A$106,0)))) | J18: =IF(NOT(Intervencoes!B18<>""),"",IF(INDEX(Analise!$S$7:$S$106,MATCH(A18,Analise!$A$7:$A$106,0))="","",INDEX(Analise!$S$7:$S$106,MATCH(A18,Analise!$A$7:$A$106,0))))
... A106: =IF(NOT(Intervencoes!B106<>""),"",IF(Intervencoes!A106="","",Intervencoes!A106)) | B106: =IF(NOT(Intervencoes!B106<>""),"",IF(Intervencoes!B106="","",Intervencoes!B106)) | C106: =IF(NOT(Intervencoes!B106<>""),"",IF(INDEX(Financiamento!$H$7:$H$106,MATCH(A106,Financiamento!$A$7:$A$106,0))="","",INDEX(Financiamento!$H$7:$H$106,MATCH(A106,Financiamento!$A$7:$A$106,0)))) | D106: =IF(NOT(Intervencoes!B106<>""),"",IF(INDEX(Financiamento!$J$7:$J$106,MATCH(A106,Financiamento!$A$7:$A$106,0))="","",INDEX(Financiamento!$J$7:$J$106,MATCH(A106,Financiamento!$A$7:$A$106,0)))) | E106: =IF(NOT(Intervencoes!B106<>""),"",IF(INDEX(Financiamento!$L$7:$L$106,MATCH(A106,Financiamento!$A$7:$A$106,0))="","",INDEX(Financiamento!$L$7:$L$106,MATCH(A106,Financiamento!$A$7:$A$106,0)))) | F106: =IF(NOT(Intervencoes!B106<>""),"",IF(INDEX(Financiamento!$M$7:$M$106,MATCH(A106,Financiamento!$A$7:$A$106,0))="","",INDEX(Financiamento!$M$7:$M$106,MATCH(A106,Financiamento!$A$7:$A$106,0)))) | G106: =IF(NOT(Intervencoes!B106<>""),"",IF(INDEX(Financiamento!$N$7:$N$106,MATCH(A106,Financiamento!$A$7:$A$106,0))="","",INDEX(Financiamento!$N$7:$N$106,MATCH(A106,Financiamento!$A$7:$A$106,0)))) | H106: =IF(NOT(Intervencoes!B106<>""),"",IF(INDEX(Financiamento!$Q$7:$Q$106,MATCH(A106,Financiamento!$A$7:$A$106,0))="","",INDEX(Financiamento!$Q$7:$Q$106,MATCH(A106,Financiamento!$A$7:$A$106,0)))) | I106: =IF(NOT(Intervencoes!B106<>""),"",IF(INDEX(Analise!$K$7:$K$106,MATCH(A106,Analise!$A$7:$A$106,0))="","",INDEX(Analise!$K$7:$K$106,MATCH(A106,Analise!$A$7:$A$106,0)))) | J106: =IF(NOT(Intervencoes!B106<>""),"",IF(INDEX(Analise!$S$7:$S$106,MATCH(A106,Analise!$A$7:$A$106,0))="","",INDEX(Analise!$S$7:$S$106,MATCH(A106,Analise!$A$7:$A$106,0))))
A108: Total da candidatura | C108: =IF(COUNTA(Intervencoes!$B$7:$B$106)=0,"",IF(COUNT(C7:C106)<COUNTA(Intervencoes!$B$7:$B$106),"Por apurar",SUM(C7:C106))) | D108: =IF(COUNTA(Intervencoes!$B$7:$B$106)=0,"",IF(COUNT(D7:D106)<COUNTA(Intervencoes!$B$7:$B$106),"Por apurar",SUM(D7:D106))) | E108: =IF(COUNTA(Intervencoes!$B$7:$B$106)=0,"",IF(COUNT(E7:E106)<COUNTA(Intervencoes!$B$7:$B$106),"Por apurar",SUM(E7:E106))) | F108: =IF(COUNTA(Intervencoes!$B$7:$B$106)=0,"",IF(COUNT(F7:F106)<COUNTA(Intervencoes!$B$7:$B$106),"Por apurar",SUM(F7:F106))) | G108: =IF(COUNTA(Intervencoes!$B$7:$B$106)=0,"",IF(COUNT(G7:G106)<COUNTA(Intervencoes!$B$7:$B$106),"Por apurar",SUM(G7:G106))) | J108: =IF(COUNTA(Intervencoes!$B$7:$B$106)=0,"",IF(COUNT(J7:J106)<COUNTA(Intervencoes!$B$7:$B$106),"Por apurar",SUM(J7:J106)))
A109: Subtotal conhecido | C109: =IF(COUNTA(Intervencoes!$B$7:$B$106)=0,"",SUM(C7:C106)) | D109: =IF(COUNTA(Intervencoes!$B$7:$B$106)=0,"",SUM(D7:D106)) | E109: =IF(COUNTA(Intervencoes!$B$7:$B$106)=0,"",SUM(E7:E106)) | F109: =IF(COUNTA(Intervencoes!$B$7:$B$106)=0,"",SUM(F7:F106)) | G109: =IF(COUNTA(Intervencoes!$B$7:$B$106)=0,"",SUM(G7:G106)) | J109: =IF(COUNTA(Intervencoes!$B$7:$B$106)=0,"",SUM(J7:J106))
A111: O subtotal conhecido pode excluir intervenções por apurar. A completude formal não confirma a elegibilidade.
A113: Entidade | B113: =IF(Entidade!B12="","",Entidade!B12)
A114: NIPC | B114: =IF(Entidade!B11="","",Entidade!B11)
A115: Campos da entidade | B115: =Entidade!B38 -> Faltam campos obrigatórios
A116: Adiantamentos recebidos | B116: =IF(COUNTA(Adiantamentos!B7:B106)=0,"Sem registo",IF(COUNT(Adiantamentos!D7:D106)<COUNTA(Adiantamentos!B7:B106),"Por apurar",SUM(Adiantamentos!D7:D106))) -> Sem registo
A118: Revisão do preenchimento por intervenção
A120: ID | B120: Intervenção | C120: Relatório de danos | D120: Execução e calendário | E120: Plano financeiro | F120: Observação
A121: =IF(Intervencoes!B7="","",Intervencoes!A7) | B121: =IF(Intervencoes!B7="","",Intervencoes!X7) | C121: =IF(A121="","",INDEX(Danos!$X$7:$X$106,MATCH(A121,Danos!$A$7:$A$106,0))) | D121: =IF(A121="","",INDEX(Execucao!$M$7:$M$106,MATCH(A121,Execucao!$A$7:$A$106,0))) | E121: =IF(A121="","",INDEX(Financiamento!$P$7:$P$106,MATCH(A121,Financiamento!$A$7:$A$106,0))) | F121: Plano financeiro: diferença por cobrir. Zero significa fontes previstas equilibradas.
A122: =IF(Intervencoes!B8="","",Intervencoes!A8) | B122: =IF(Intervencoes!B8="","",Intervencoes!X8) | C122: =IF(A122="","",INDEX(Danos!$X$7:$X$106,MATCH(A122,Danos!$A$7:$A$106,0))) | D122: =IF(A122="","",INDEX(Execucao!$M$7:$M$106,MATCH(A122,Execucao!$A$7:$A$106,0))) | E122: =IF(A122="","",INDEX(Financiamento!$P$7:$P$106,MATCH(A122,Financiamento!$A$7:$A$106,0)))
A123: =IF(Intervencoes!B9="","",Intervencoes!A9) | B123: =IF(Intervencoes!B9="","",Intervencoes!X9) | C123: =IF(A123="","",INDEX(Danos!$X$7:$X$106,MATCH(A123,Danos!$A$7:$A$106,0))) | D123: =IF(A123="","",INDEX(Execucao!$M$7:$M$106,MATCH(A123,Execucao!$A$7:$A$106,0))) | E123: =IF(A123="","",INDEX(Financiamento!$P$7:$P$106,MATCH(A123,Financiamento!$A$7:$A$106,0)))
A124: =IF(Intervencoes!B10="","",Intervencoes!A10) | B124: =IF(Intervencoes!B10="","",Intervencoes!X10) | C124: =IF(A124="","",INDEX(Danos!$X$7:$X$106,MATCH(A124,Danos!$A$7:$A$106,0))) | D124: =IF(A124="","",INDEX(Execucao!$M$7:$M$106,MATCH(A124,Execucao!$A$7:$A$106,0))) | E124: =IF(A124="","",INDEX(Financiamento!$P$7:$P$106,MATCH(A124,Financiamento!$A$7:$A$106,0)))
A125: =IF(Intervencoes!B11="","",Intervencoes!A11) | B125: =IF(Intervencoes!B11="","",Intervencoes!X11) | C125: =IF(A125="","",INDEX(Danos!$X$7:$X$106,MATCH(A125,Danos!$A$7:$A$106,0))) | D125: =IF(A125="","",INDEX(Execucao!$M$7:$M$106,MATCH(A125,Execucao!$A$7:$A$106,0))) | E125: =IF(A125="","",INDEX(Financiamento!$P$7:$P$106,MATCH(A125,Financiamento!$A$7:$A$106,0)))
A126: =IF(Intervencoes!B12="","",Intervencoes!A12) | B126: =IF(Intervencoes!B12="","",Intervencoes!X12) | C126: =IF(A126="","",INDEX(Danos!$X$7:$X$106,MATCH(A126,Danos!$A$7:$A$106,0))) | D126: =IF(A126="","",INDEX(Execucao!$M$7:$M$106,MATCH(A126,Execucao!$A$7:$A$106,0))) | E126: =IF(A126="","",INDEX(Financiamento!$P$7:$P$106,MATCH(A126,Financiamento!$A$7:$A$106,0)))
A127: =IF(Intervencoes!B13="","",Intervencoes!A13) | B127: =IF(Intervencoes!B13="","",Intervencoes!X13) | C127: =IF(A127="","",INDEX(Danos!$X$7:$X$106,MATCH(A127,Danos!$A$7:$A$106,0))) | D127: =IF(A127="","",INDEX(Execucao!$M$7:$M$106,MATCH(A127,Execucao!$A$7:$A$106,0))) | E127: =IF(A127="","",INDEX(Financiamento!$P$7:$P$106,MATCH(A127,Financiamento!$A$7:$A$106,0)))
A128: =IF(Intervencoes!B14="","",Intervencoes!A14) | B128: =IF(Intervencoes!B14="","",Intervencoes!X14) | C128: =IF(A128="","",INDEX(Danos!$X$7:$X$106,MATCH(A128,Danos!$A$7:$A$106,0))) | D128: =IF(A128="","",INDEX(Execucao!$M$7:$M$106,MATCH(A128,Execucao!$A$7:$A$106,0))) | E128: =IF(A128="","",INDEX(Financiamento!$P$7:$P$106,MATCH(A128,Financiamento!$A$7:$A$106,0)))
A129: =IF(Intervencoes!B15="","",Intervencoes!A15) | B129: =IF(Intervencoes!B15="","",Intervencoes!X15) | C129: =IF(A129="","",INDEX(Danos!$X$7:$X$106,MATCH(A129,Danos!$A$7:$A$106,0))) | D129: =IF(A129="","",INDEX(Execucao!$M$7:$M$106,MATCH(A129,Execucao!$A$7:$A$106,0))) | E129: =IF(A129="","",INDEX(Financiamento!$P$7:$P$106,MATCH(A129,Financiamento!$A$7:$A$106,0)))
A130: =IF(Intervencoes!B16="","",Intervencoes!A16) | B130: =IF(Intervencoes!B16="","",Intervencoes!X16) | C130: =IF(A130="","",INDEX(Danos!$X$7:$X$106,MATCH(A130,Danos!$A$7:$A$106,0))) | D130: =IF(A130="","",INDEX(Execucao!$M$7:$M$106,MATCH(A130,Execucao!$A$7:$A$106,0))) | E130: =IF(A130="","",INDEX(Financiamento!$P$7:$P$106,MATCH(A130,Financiamento!$A$7:$A$106,0)))
A131: =IF(Intervencoes!B17="","",Intervencoes!A17) | B131: =IF(Intervencoes!B17="","",Intervencoes!X17) | C131: =IF(A131="","",INDEX(Danos!$X$7:$X$106,MATCH(A131,Danos!$A$7:$A$106,0))) | D131: =IF(A131="","",INDEX(Execucao!$M$7:$M$106,MATCH(A131,Execucao!$A$7:$A$106,0))) | E131: =IF(A131="","",INDEX(Financiamento!$P$7:$P$106,MATCH(A131,Financiamento!$A$7:$A$106,0)))
A132: =IF(Intervencoes!B18="","",Intervencoes!A18) | B132: =IF(Intervencoes!B18="","",Intervencoes!X18) | C132: =IF(A132="","",INDEX(Danos!$X$7:$X$106,MATCH(A132,Danos!$A$7:$A$106,0))) | D132: =IF(A132="","",INDEX(Execucao!$M$7:$M$106,MATCH(A132,Execucao!$A$7:$A$106,0))) | E132: =IF(A132="","",INDEX(Financiamento!$P$7:$P$106,MATCH(A132,Financiamento!$A$7:$A$106,0)))
A133: =IF(Intervencoes!B19="","",Intervencoes!A19) | B133: =IF(Intervencoes!B19="","",Intervencoes!X19) | C133: =IF(A133="","",INDEX(Danos!$X$7:$X$106,MATCH(A133,Danos!$A$7:$A$106,0))) | D133: =IF(A133="","",INDEX(Execucao!$M$7:$M$106,MATCH(A133,Execucao!$A$7:$A$106,0))) | E133: =IF(A133="","",INDEX(Financiamento!$P$7:$P$106,MATCH(A133,Financiamento!$A$7:$A$106,0)))
... A210: =IF(Intervencoes!B96="","",Intervencoes!A96) | B210: =IF(Intervencoes!B96="","",Intervencoes!X96) | C210: =IF(A210="","",INDEX(Danos!$X$7:$X$106,MATCH(A210,Danos!$A$7:$A$106,0))) | D210: =IF(A210="","",INDEX(Execucao!$M$7:$M$106,MATCH(A210,Execucao!$A$7:$A$106,0))) | E210: =IF(A210="","",INDEX(Financiamento!$P$7:$P$106,MATCH(A210,Financiamento!$A$7:$A$106,0)))
...

Sheet Entidade
A2: Identificação da candidatura
A3: Uma entidade por ficheiro. Preencher os campos assinalados como obrigatórios.
A4: Amarelo: requerente. Cinzento: cálculo. Lilás: CCDR. Não alterar os identificadores.
A6: Campo | B6: Resposta | C6: Instrução
A7: Procedimento | B7: FEM 2026 | C7: Referência do procedimento.
A8: ID da candidatura | C8: Preencher quando atribuído. Não é gerado pelo Excel.
A9: Versão do formulário | B9: 1 | C9: Atualizar em cada entrega ou complemento.
A10: Natureza da entidade | C10: Obrigatório. Serviços municipalizados integrados no município.
A11: NIPC | C11: Obrigatório. Nove algarismos, conservados como texto.
A12: Designação da entidade | C12: Obrigatório. Designação oficial.
A13: Morada | C13: Obrigatório.
A14: Código postal | C14: Obrigatório. Formato 0000-000.
A15: Localidade | C15: Obrigatório.
A16: Território abrangido pela entidade | C16: Obrigatório. Município/freguesia ou municípios abrangidos.
A17: NISS | C17: Onze algarismos, se aplicável.
A18: Justificação de NISS não aplicável | C18: Preencher se não indicar NISS. Aplicabilidade sujeita a confirmação.
A19: Designação global do projeto | C19: Obrigatório.
A20: Responsável pela candidatura | C20: Obrigatório. Nome completo.
A21: Cargo ou função | C21: Obrigatório.
... A37: Documento das declarações assinadas | C37: Referência no índice Documentos.
A38: Verificação de preenchimento | B38: =IF(OR(COUNTBLANK(B10:B16)>0,COUNTBLANK(B19:B24)>0,COUNTBLANK(B27:B28)>0,B30="",B37=""),"Faltam campos obrigatórios",IF(OR(LEN(B11)<>9,NOT(ISNUMBER(IFERROR(VALUE(B11),"")))),"Rever NIPC",IF(VALUE(RIGHT(B11,1))<>IF(MOD((VALUE(MID(B11,1,1))*9+VALUE(MID(B11,2,1))*8+VALUE(MID(B11,3,1))*7+VALUE(MID(B11,4,1))*6+VALUE(MID(B11,5,1))*5+VALUE(MID(B11,6,1))*4+VALUE(MID(B11,7,1))*3+VALUE(MID(B11,8,1))*2),11)<2,0,11-MOD((VALUE(MID(B11,1,1))*9+VALUE(MID(B11,2,1))*8+VALUE(MID(B11,3,1))*7+VALUE(MID(B11,4,1))*6+VALUE(MID(B11,5,1))*5+VALUE(MID(B11,6,1))*4+VALUE(MID(B11,7,1))*3+VALUE(MID(B11,8,1))*2),11)),"Rever dígito NIPC",IF(AND(B17="",B18=""),"Falta NISS ou justificação",IF(AND(B17<>"",OR(LEN(B17)<>11,NOT(ISNUMBER(IFERROR(VALUE(B17),""))))),"Rever NISS",IF(AND(B24="Outro",OR(B25="",B26="")),"Falta contacto de esclarecimentos",IF(COUNTIF(B31:B36,"Confirmo")<>6,"Faltam confirmações","Preenchimento básico completo"))))))) -> Faltam campos obrigatórios | C38: Validação formal básica. Não prova elegibilidade nem autenticidade.

Sheet Intervencoes
A2: Intervenções e responsabilidade
A3: Uma linha por intervenção. Os códigos INT são usados nos restantes mapas.
A4: Amarelo: requerente. Cinzento: cálculo. Lilás: CCDR. Não alterar os identificadores.
A6: ID | B6: Designação da intervenção | C6: Tipologia | D6: Natureza do bem | E6: Bem / código patrimonial | F6: Serviço público assegurado | G6: Município | H6: Freguesia | I6: Morada / local | J6: Coordenadas / geometria | K6: DOC cartografia | L6: Proprietário | M6: NIPC proprietário | N6: Fundamento da responsabilidade | O6: Entidade responsável | P6: Título e referência | Q6: Data do título | R6: Vigência | S6: Encargos atribuídos | T6: Entidade executante | U6: Instrumento de execução | V6: Reporte prévio | W6: Referência do reporte | X6: Preenchimento
A7: INT-001 | X7: =IF(COUNTA(B7:W7)=0,"",IF(OR(COUNTBLANK(B7:D7)>0,F7="",G7="",H7="",I7="",L7="",COUNTBLANK(N7:P7)>0,S7="",T7="",V7=""),"Faltam dados da intervenção",IF(AND(D7<>"Equipamento móvel",OR(J7="",K7="")),"Falta localização ou cartografia",IF(AND(K7<>"",COUNTIFS(Documentos!$A$7:$A$306,K7,Documentos!$E$7:$E$306,"<>")<>1),"Rever DOC cartografia","Preenchido; sujeito a análise"))))
A8: INT-002 | X8: =IF(COUNTA(B8:W8)=0,"",IF(OR(COUNTBLANK(B8:D8)>0,F8="",G8="",H8="",I8="",L8="",COUNTBLANK(N8:P8)>0,S8="",T8="",V8=""),"Faltam dados da intervenção",IF(AND(D8<>"Equipamento móvel",OR(J8="",K8="")),"Falta localização ou cartografia",IF(AND(K8<>"",COUNTIFS(Documentos!$A$7:$A$306,K8,Documentos!$E$7:$E$306,"<>")<>1),"Rever DOC cartografia","Preenchido; sujeito a análise"))))
A9: INT-003 | X9: =IF(COUNTA(B9:W9)=0,"",IF(OR(COUNTBLANK(B9:D9)>0,F9="",G9="",H9="",I9="",L9="",COUNTBLANK(N9:P9)>0,S9="",T9="",V9=""),"Faltam dados da intervenção",IF(AND(D9<>"Equipamento móvel",OR(J9="",K9="")),"Falta localização ou cartografia",IF(AND(K9<>"",COUNTIFS(Documentos!$A$7:$A$306,K9,Documentos!$E$7:$E$306,"<>")<>1),"Rever DOC cartografia","Preenchido; sujeito a análise"))))
A10: INT-004 | X10: =IF(COUNTA(B10:W10)=0,"",IF(OR(COUNTBLANK(B10:D10)>0,F10="",G10="",H10="",I10="",L10="",COUNTBLANK(N10:P10)>0,S10="",T10="",V10=""),"Faltam dados da intervenção",IF(AND(D10<>"Equipamento móvel",OR(J10="",K10="")),"Falta localização ou cartografia",IF(AND(K10<>"",COUNTIFS(Documentos!$A$7:$A$306,K10,Documentos!$E$7:$E$306,"<>")<>1),"Rever DOC cartografia","Preenchido; sujeito a análise"))))
A11: INT-005 | X11: =IF(COUNTA(B11:W11)=0,"",IF(OR(COUNTBLANK(B11:D11)>0,F11="",G11="",H11="",I11="",L11="",COUNTBLANK(N11:P11)>0,S11="",T11="",V11=""),"Faltam dados da intervenção",IF(AND(D11<>"Equipamento móvel",OR(J11="",K11="")),"Falta localização ou cartografia",IF(AND(K11<>"",COUNTIFS(Documentos!$A$7:$A$306,K11,Documentos!$E$7:$E$306,"<>")<>1),"Rever DOC cartografia","Preenchido; sujeito a análise"))))
A12: INT-006 | X12: =IF(COUNTA(B12:W12)=0,"",IF(OR(COUNTBLANK(B12:D12)>0,F12="",G12="",H12="",I12="",L12="",COUNTBLANK(N12:P12)>0,S12="",T12="",V12=""),"Faltam dados da intervenção",IF(AND(D12<>"Equipamento móvel",OR(J12="",K12="")),"Falta localização ou cartografia",IF(AND(K12<>"",COUNTIFS(Documentos!$A$7:$A$306,K12,Documentos!$E$7:$E$306,"<>")<>1),"Rever DOC cartografia","Preenchido; sujeito a análise"))))
A13: INT-007 | X13: =IF(COUNTA(B13:W13)=0,"",IF(OR(COUNTBLANK(B13:D13)>0,F13="",G13="",H13="",I13="",L13="",COUNTBLANK(N13:P13)>0,S13="",T13="",V13=""),"Faltam dados da intervenção",IF(AND(D13<>"Equipamento móvel",OR(J13="",K13="")),"Falta localização ou cartografia",IF(AND(K13<>"",COUNTIFS(Documentos!$A$7:$A$306,K13,Documentos!$E$7:$E$306,"<>")<>1),"Rever DOC cartografia","Preenchido; sujeito a análise"))))
A14: INT-008 | X14: =IF(COUNTA(B14:W14)=0,"",IF(OR(COUNTBLANK(B14:D14)>0,F14="",G14="",H14="",I14="",L14="",COUNTBLANK(N14:P14)>0,S14="",T14="",V14=""),"Faltam dados da intervenção",IF(AND(D14<>"Equipamento móvel",OR(J14="",K14="")),"Falta localização ou cartografia",IF(AND(K14<>"",COUNTIFS(Documentos!$A$7:$A$306,K14,Documentos!$E$7:$E$306,"<>")<>1),"Rever DOC cartografia","Preenchido; sujeito a análise"))))
A15: INT-009 | X15: =IF(COUNTA(B15:W15)=0,"",IF(OR(COUNTBLANK(B15:D15)>0,F15="",G15="",H15="",I15="",L15="",COUNTBLANK(N15:P15)>0,S15="",T15="",V15=""),"Faltam dados da intervenção",IF(AND(D15<>"Equipamento móvel",OR(J15="",K15="")),"Falta localização ou cartografia",IF(AND(K15<>"",COUNTIFS(Documentos!$A$7:$A$306,K15,Documentos!$E$7:$E$306,"<>")<>1),"Rever DOC cartografia","Preenchido; sujeito a análise"))))
A16: INT-010 | X16: =IF(COUNTA(B16:W16)=0,"",IF(OR(COUNTBLANK(B16:D16)>0,F16="",G16="",H16="",I16="",L16="",COUNTBLANK(N16:P16)>0,S16="",T16="",V16=""),"Faltam dados da intervenção",IF(AND(D16<>"Equipamento móvel",OR(J16="",K16="")),"Falta localização ou cartografia",IF(AND(K16<>"",COUNTIFS(Documentos!$A$7:$A$306,K16,Documentos!$E$7:$E$306,"<>")<>1),"Rever DOC cartografia","Preenchido; sujeito a análise"))))
A17: INT-011 | X17: =IF(COUNTA(B17:W17)=0,"",IF(OR(COUNTBLANK(B17:D17)>0,F17="",G17="",H17="",I17="",L17="",COUNTBLANK(N17:P17)>0,S17="",T17="",V17=""),"Faltam dados da intervenção",IF(AND(D17<>"Equipamento móvel",OR(J17="",K17="")),"Falta localização ou cartografia",IF(AND(K17<>"",COUNTIFS(Documentos!$A$7:$A$306,K17,Documentos!$E$7:$E$306,"<>")<>1),"Rever DOC cartografia","Preenchido; sujeito a análise"))))
A18: INT-012 | X18: =IF(COUNTA(B18:W18)=0,"",IF(OR(COUNTBLANK(B18:D18)>0,F18="",G18="",H18="",I18="",L18="",COUNTBLANK(N18:P18)>0,S18="",T18="",V18=""),"Faltam dados da intervenção",IF(AND(D18<>"Equipamento móvel",OR(J18="",K18="")),"Falta localização ou cartografia",IF(AND(K18<>"",COUNTIFS(Documentos!$A$7:$A$306,K18,Documentos!$E$7:$E$306,"<>")<>1),"Rever DOC cartografia","Preenchido; sujeito a análise"))))
... A106: INT-100 | X106: =IF(COUNTA(B106:W106)=0,"",IF(OR(COUNTBLANK(B106:D106)>0,F106="",G106="",H106="",I106="",L106="",COUNTBLANK(N106:P106)>0,S106="",T106="",V106=""),"Faltam dados da intervenção",IF(AND(D106<>"Equipamento móvel",OR(J106="",K106="")),"Falta localização ou cartografia",IF(AND(K106<>"",COUNTIFS(Documentos!$A$7:$A$306,K106,Documentos!$E$7:$E$306,"<>")<>1),"Rever DOC cartografia","Preenchido; sujeito a análise"))))

Sheet Documentos
A2: Índice de documentos
A3: Registar ficheiros entregues com o Excel. Indicar Candidatura para documentos comuns. A presença no índice não confirma a prova.
A4: Amarelo: requerente. Cinzento: cálculo. Lilás: CCDR. Não alterar os identificadores.
A6: ID documento | B6: Âmbito / ID intervenção | C6: Tipo de documento | D6: Descrição / legenda | E6: Nome do ficheiro ou ligação | F6: Data do documento | G6: Signatário / emissor | H6: Artigo ou fonte associado | I6: Observação / não aplicabilidade | J6: Validação do índice
A7: DOC-001 | J7: =IF(COUNTA(B7:I7)=0,"",IF(OR(B7="",C7="",D7="",E7=""),"Faltam elementos do documento",IF(AND(B7<>"Candidatura",NOT(COUNTIFS(Intervencoes!$A$7:$A$26,B7,Intervencoes!$B$7:$B$26,"<>")=1)),"Rever âmbito do documento","Indexado; prova a confirmar")))
A8: DOC-002 | J8: =IF(COUNTA(B8:I8)=0,"",IF(OR(B8="",C8="",D8="",E8=""),"Faltam elementos do documento",IF(AND(B8<>"Candidatura",NOT(COUNTIFS(Intervencoes!$A$7:$A$26,B8,Intervencoes!$B$7:$B$26,"<>")=1)),"Rever âmbito do documento","Indexado; prova a confirmar")))
A9: DOC-003 | J9: =IF(COUNTA(B9:I9)=0,"",IF(OR(B9="",C9="",D9="",E9=""),"Faltam elementos do documento",IF(AND(B9<>"Candidatura",NOT(COUNTIFS(Intervencoes!$A$7:$A$26,B9,Intervencoes!$B$7:$B$26,"<>")=1)),"Rever âmbito do documento","Indexado; prova a confirmar")))
A10: DOC-004 | J10: =IF(COUNTA(B10:I10)=0,"",IF(OR(B10="",C10="",D10="",E10=""),"Faltam elementos do documento",IF(AND(B10<>"Candidatura",NOT(COUNTIFS(Intervencoes!$A$7:$A$26,B10,Intervencoes!$B$7:$B$26,"<>")=1)),"Rever âmbito do documento","Indexado; prova a confirmar")))
A11: DOC-005 | J11: =IF(COUNTA(B11:I11)=0,"",IF(OR(B11="",C11="",D11="",E11=""),"Faltam elementos do documento",IF(AND(B11<>"Candidatura",NOT(COUNTIFS(Intervencoes!$A$7:$A$26,B11,Intervencoes!$B$7:$B$26,"<>")=1)),"Rever âmbito do documento","Indexado; prova a confirmar")))
A12: DOC-006 | J12: =IF(COUNTA(B12:I12)=0,"",IF(OR(B12="",C12="",D12="",E12=""),"Faltam elementos do documento",IF(AND(B12<>"Candidatura",NOT(COUNTIFS(Intervencoes!$A$7:$A$26,B12,Intervencoes!$B$7:$B$26,"<>")=1)),"Rever âmbito do documento","Indexado; prova a confirmar")))
A13: DOC-007 | J13: =IF(COUNTA(B13:I13)=0,"",IF(OR(B13="",C13="",D13="",E13=""),"Faltam elementos do documento",IF(AND(B13<>"Candidatura",NOT(COUNTIFS(Intervencoes!$A$7:$A$26,B13,Intervencoes!$B$7:$B$26,"<>")=1)),"Rever âmbito do documento","Indexado; prova a confirmar")))
A14: DOC-008 | J14: =IF(COUNTA(B14:I14)=0,"",IF(OR(B14="",C14="",D14="",E14=""),"Faltam elementos do documento",IF(AND(B14<>"Candidatura",NOT(COUNTIFS(Intervencoes!$A$7:$A$26,B14,Intervencoes!$B$7:$B$26,"<>")=1)),"Rever âmbito do documento","Indexado; prova a confirmar")))
A15: DOC-009 | J15: =IF(COUNTA(B15:I15)=0,"",IF(OR(B15="",C15="",D15="",E15=""),"Faltam elementos do documento",IF(AND(B15<>"Candidatura",NOT(COUNTIFS(Intervencoes!$A$7:$A$26,B15,Intervencoes!$B$7:$B$26,"<>")=1)),"Rever âmbito do documento","Indexado; prova a confirmar")))
A16: DOC-010 | J16: =IF(COUNTA(B16:I16)=0,"",IF(OR(B16="",C16="",D16="",E16=""),"Faltam elementos do documento",IF(AND(B16<>"Candidatura",NOT(COUNTIFS(Intervencoes!$A$7:$A$26,B16,Intervencoes!$B$7:$B$26,"<>")=1)),"Rever âmbito do documento","Indexado; prova a confirmar")))
A17: DOC-011 | J17: =IF(COUNTA(B17:I17)=0,"",IF(OR(B17="",C17="",D17="",E17=""),"Faltam elementos do documento",IF(AND(B17<>"Candidatura",NOT(COUNTIFS(Intervencoes!$A$7:$A$26,B17,Intervencoes!$B$7:$B$26,"<>")=1)),"Rever âmbito do documento","Indexado; prova a confirmar")))
A18: DOC-012 | J18: =IF(COUNTA(B18:I18)=0,"",IF(OR(B18="",C18="",D18="",E18=""),"Faltam elementos do documento",IF(AND(B18<>"Candidatura",NOT(COUNTIFS(Intervencoes!$A$7:$A$26,B18,Intervencoes!$B$7:$B$26,"<>")=1)),"Rever âmbito do documento","Indexado; prova a confirmar")))
... A306: DOC-300 | J306: =IF(COUNTA(B306:I306)=0,"",IF(OR(B306="",C306="",D306="",E306=""),"Faltam elementos do documento",IF(AND(B306<>"Candidatura",NOT(COUNTIFS(Intervencoes!$A$7:$A$26,B306,Intervencoes!$B$7:$B$26,"<>")=1)),"Rever âmbito do documento","Indexado; prova a confirmar")))

Sheet Danos
A2: Relatório de danos e solução
A3: Uma linha por intervenção. Descrições extensas podem ser completadas em documento identificado no índice.
A4: Amarelo: requerente. Cinzento: cálculo. Lilás: CCDR. Não alterar os identificadores.
A6: ID intervenção | B6: Evento | C6: Data do dano | D6: Data de deteção | E6: Descrição técnica dos danos | F6: Condição anterior / deficiências | G6: Explicação do nexo causal | H6: Área afetada m² | I6: Comprimento afetado m | J6: Quantidade afetada un. | K6: Volume afetado m³ | L6: Impacto funcional | M6: Medidas de emergência | N6: DOC fotografias / prova | O6: Alternativa às fotografias | P6: Trabalhos propostos | Q6: Fundamentação da solução | R6: Área intervenção m² | S6: Comprimento intervenção m | T6: Quantidade intervenção un. | U6: Volume intervenção m³ | V6: Solução especial | W6: Justificação da solução especial | X6: Preenchimento
A7: INT-001 | X7: =IF(AND(NOT(COUNTIFS(Intervencoes!$A$7:$A$26,A7,Intervencoes!$B$7:$B$26,"<>")=1),COUNTA(B7:W7)=0),"",IF(NOT(COUNTIFS(Intervencoes!$A$7:$A$26,A7,Intervencoes!$B$7:$B$26,"<>")=1),"Rever intervenção sem designação",IF(OR(B7="",C7="",E7="",G7="",L7="",M7="",P7="",Q7="",V7=""),"Faltam dados do relatório",IF(OR(SUM(H7:K7)<=0,SUM(R7:U7)<=0),"Falta dimensão positiva",IF(AND(N7="",O7=""),"Falta prova dos danos",IF(AND(V7<>"Nenhuma",W7=""),"Falta justificação especial",IF(OR(R7>H7,S7>I7,T7>J7,U7>K7),"Rever dimensão e fundamentação","Preenchido; sujeito a análise")))))))
A8: INT-002 | X8: =IF(AND(NOT(COUNTIFS(Intervencoes!$A$7:$A$26,A8,Intervencoes!$B$7:$B$26,"<>")=1),COUNTA(B8:W8)=0),"",IF(NOT(COUNTIFS(Intervencoes!$A$7:$A$26,A8,Intervencoes!$B$7:$B$26,"<>")=1),"Rever intervenção sem designação",IF(OR(B8="",C8="",E8="",G8="",L8="",M8="",P8="",Q8="",V8=""),"Faltam dados do relatório",IF(OR(SUM(H8:K8)<=0,SUM(R8:U8)<=0),"Falta dimensão positiva",IF(AND(N8="",O8=""),"Falta prova dos danos",IF(AND(V8<>"Nenhuma",W8=""),"Falta justificação especial",IF(OR(R8>H8,S8>I8,T8>J8,U8>K8),"Rever dimensão e fundamentação","Preenchido; sujeito a análise")))))))
A9: INT-003 | X9: =IF(AND(NOT(COUNTIFS(Intervencoes!$A$7:$A$26,A9,Intervencoes!$B$7:$B$26,"<>")=1),COUNTA(B9:W9)=0),"",IF(NOT(COUNTIFS(Intervencoes!$A$7:$A$26,A9,Intervencoes!$B$7:$B$26,"<>")=1),"Rever intervenção sem designação",IF(OR(B9="",C9="",E9="",G9="",L9="",M9="",P9="",Q9="",V9=""),"Faltam dados do relatório",IF(OR(SUM(H9:K9)<=0,SUM(R9:U9)<=0),"Falta dimensão positiva",IF(AND(N9="",O9=""),"Falta prova dos danos",IF(AND(V9<>"Nenhuma",W9=""),"Falta justificação especial",IF(OR(R9>H9,S9>I9,T9>J9,U9>K9),"Rever dimensão e fundamentação","Preenchido; sujeito a análise")))))))
A10: INT-004 | X10: =IF(AND(NOT(COUNTIFS(Intervencoes!$A$7:$A$26,A10,Intervencoes!$B$7:$B$26,"<>")=1),COUNTA(B10:W10)=0),"",IF(NOT(COUNTIFS(Intervencoes!$A$7:$A$26,A10,Intervencoes!$B$7:$B$26,"<>")=1),"Rever intervenção sem designação",IF(OR(B10="",C10="",E10="",G10="",L10="",M10="",P10="",Q10="",V10=""),"Faltam dados do relatório",IF(OR(SUM(H10:K10)<=0,SUM(R10:U10)<=0),"Falta dimensão positiva",IF(AND(N10="",O10=""),"Falta prova dos danos",IF(AND(V10<>"Nenhuma",W10=""),"Falta justificação especial",IF(OR(R10>H10,S10>I10,T10>J10,U10>K10),"Rever dimensão e fundamentação","Preenchido; sujeito a análise")))))))
A11: INT-005 | X11: =IF(AND(NOT(COUNTIFS(Intervencoes!$A$7:$A$26,A11,Intervencoes!$B$7:$B$26,"<>")=1),COUNTA(B11:W11)=0),"",IF(NOT(COUNTIFS(Intervencoes!$A$7:$A$26,A11,Intervencoes!$B$7:$B$26,"<>")=1),"Rever intervenção sem designação",IF(OR(B11="",C11="",E11="",G11="",L11="",M11="",P11="",Q11="",V11=""),"Faltam dados do relatório",IF(OR(SUM(H11:K11)<=0,SUM(R11:U11)<=0),"Falta dimensão positiva",IF(AND(N11="",O11=""),"Falta prova dos danos",IF(AND(V11<>"Nenhuma",W11=""),"Falta justificação especial",IF(OR(R11>H11,S11>I11,T11>J11,U11>K11),"Rever dimensão e fundamentação","Preenchido; sujeito a análise")))))))
A12: INT-006 | X12: =IF(AND(NOT(COUNTIFS(Intervencoes!$A$7:$A$26,A12,Intervencoes!$B$7:$B$26,"<>")=1),COUNTA(B12:W12)=0),"",IF(NOT(COUNTIFS(Intervencoes!$A$7:$A$26,A12,Intervencoes!$B$7:$B$26,"<>")=1),"Rever intervenção sem designação",IF(OR(B12="",C12="",E12="",G12="",L12="",M12="",P12="",Q12="",V12=""),"Faltam dados do relatório",IF(OR(SUM(H12:K12)<=0,SUM(R12:U12)<=0),"Falta dimensão positiva",IF(AND(N12="",O12=""),"Falta prova dos danos",IF(AND(V12<>"Nenhuma",W12=""),"Falta justificação especial",IF(OR(R12>H12,S12>I12,T12>J12,U12>K12),"Rever dimensão e fundamentação","Preenchido; sujeito a análise")))))))
A13: INT-007 | X13: =IF(AND(NOT(COUNTIFS(Intervencoes!$A$7:$A$26,A13,Intervencoes!$B$7:$B$26,"<>")=1),COUNTA(B13:W13)=0),"",IF(NOT(COUNTIFS(Intervencoes!$A$7:$A$26,A13,Intervencoes!$B$7:$B$26,"<>")=1),"Rever intervenção sem designação",IF(OR(B13="",C13="",E13="",G13="",L13="",M13="",P13="",Q13="",V13=""),"Faltam dados do relatório",IF(OR(SUM(H13:K13)<=0,SUM(R13:U13)<=0),"Falta dimensão positiva",IF(AND(N13="",O13=""),"Falta prova dos danos",IF(AND(V13<>"Nenhuma",W13=""),"Falta justificação especial",IF(OR(R13>H13,S13>I13,T13>J13,U13>K13),"Rever dimensão e fundamentação","Preenchido; sujeito a análise")))))))
A14: INT-008 | X14: =IF(AND(NOT(COUNTIFS(Intervencoes!$A$7:$A$26,A14,Intervencoes!$B$7:$B$26,"<>")=1),COUNTA(B14:W14)=0),"",IF(NOT(COUNTIFS(Intervencoes!$A$7:$A$26,A14,Intervencoes!$B$7:$B$26,"<>")=1),"Rever intervenção sem designação",IF(OR(B14="",C14="",E14="",G14="",L14="",M14="",P14="",Q14="",V14=""),"Faltam dados do relatório",IF(OR(SUM(H14:K14)<=0,SUM(R14:U14)<=0),"Falta dimensão positiva",IF(AND(N14="",O14=""),"Falta prova dos danos",IF(AND(V14<>"Nenhuma",W14=""),"Falta justificação especial",IF(OR(R14>H14,S14>I14,T14>J14,U14>K14),"Rever dimensão e fundamentação","Preenchido; sujeito a análise")))))))
A15: INT-009 | X15: =IF(AND(NOT(COUNTIFS(Intervencoes!$A$7:$A$26,A15,Intervencoes!$B$7:$B$26,"<>")=1),COUNTA(B15:W15)=0),"",IF(NOT(COUNTIFS(Intervencoes!$A$7:$A$26,A15,Intervencoes!$B$7:$B$26,"<>")=1),"Rever intervenção sem designação",IF(OR(B15="",C15="",E15="",G15="",L15="",M15="",P15="",Q15="",V15=""),"Faltam dados do relatório",IF(OR(SUM(H15:K15)<=0,SUM(R15:U15)<=0),"Falta dimensão positiva",IF(AND(N15="",O15=""),"Falta prova dos danos",IF(AND(V15<>"Nenhuma",W15=""),"Falta justificação especial",IF(OR(R15>H15,S15>I15,T15>J15,U15>K15),"Rever dimensão e fundamentação","Preenchido; sujeito a análise")))))))
A16: INT-010 | X16: =IF(AND(NOT(COUNTIFS(Intervencoes!$A$7:$A$26,A16,Intervencoes!$B$7:$B$26,"<>")=1),COUNTA(B16:W16)=0),"",IF(NOT(COUNTIFS(Intervencoes!$A$7:$A$26,A16,Intervencoes!$B$7:$B$26,"<>")=1),"Rever intervenção sem designação",IF(OR(B16="",C16="",E16="",G16="",L16="",M16="",P16="",Q16="",V16=""),"Faltam dados do relatório",IF(OR(SUM(H16:K16)<=0,SUM(R16:U16)<=0),"Falta dimensão positiva",IF(AND(N16="",O16=""),"Falta prova dos danos",IF(AND(V16<>"Nenhuma",W16=""),"Falta justificação especial",IF(OR(R16>H16,S16>I16,T16>J16,U16>K16),"Rever dimensão e fundamentação","Preenchido; sujeito a análise")))))))
A17: INT-011 | X17: =IF(AND(NOT(COUNTIFS(Intervencoes!$A$7:$A$26,A17,Intervencoes!$B$7:$B$26,"<>")=1),COUNTA(B17:W17)=0),"",IF(NOT(COUNTIFS(Intervencoes!$A$7:$A$26,A17,Intervencoes!$B$7:$B$26,"<>")=1),"Rever intervenção sem designação",IF(OR(B17="",C17="",E17="",G17="",L17="",M17="",P17="",Q17="",V17=""),"Faltam dados do relatório",IF(OR(SUM(H17:K17)<=0,SUM(R17:U17)<=0),"Falta dimensão positiva",IF(AND(N17="",O17=""),"Falta prova dos danos",IF(AND(V17<>"Nenhuma",W17=""),"Falta justificação especial",IF(OR(R17>H17,S17>I17,T17>J17,U17>K17),"Rever dimensão e fundamentação","Preenchido; sujeito a análise")))))))
A18: INT-012 | X18: =IF(AND(NOT(COUNTIFS(Intervencoes!$A$7:$A$26,A18,Intervencoes!$B$7:$B$26,"<>")=1),COUNTA(B18:W18)=0),"",IF(NOT(COUNTIFS(Intervencoes!$A$7:$A$26,A18,Intervencoes!$B$7:$B$26,"<>")=1),"Rever intervenção sem designação",IF(OR(B18="",C18="",E18="",G18="",L18="",M18="",P18="",Q18="",V18=""),"Faltam dados do relatório",IF(OR(SUM(H18:K18)<=0,SUM(R18:U18)<=0),"Falta dimensão positiva",IF(AND(N18="",O18=""),"Falta prova dos danos",IF(AND(V18<>"Nenhuma",W18=""),"Falta justificação especial",IF(OR(R18>H18,S18>I18,T18>J18,U18>K18),"Rever dimensão e fundamentação","Preenchido; sujeito a análise")))))))
... A106: INT-100 | X106: =IF(AND(NOT(COUNTIFS(Intervencoes!$A$7:$A$26,A106,Intervencoes!$B$7:$B$26,"<>")=1),COUNTA(B106:W106)=0),"",IF(NOT(COUNTIFS(Intervencoes!$A$7:$A$26,A106,Intervencoes!$B$7:$B$26,"<>")=1),"Rever intervenção sem designação",IF(OR(B106="",C106="",E106="",G106="",L106="",M106="",P106="",Q106="",V106=""),"Faltam dados do relatório",IF(OR(SUM(H106:K106)<=0,SUM(R106:U106)<=0),"Falta dimensão positiva",IF(AND(N106="",O106=""),"Falta prova dos danos",IF(AND(V106<>"Nenhuma",W106=""),"Falta justificação especial",IF(OR(R106>H106,S106>I106,T106>J106,U106>K106),"Rever dimensão e fundamentação","Preenchido; sujeito a análise")))))))

Sheet Orcamento
A2: Mapa de quantidades e orçamento
A3: Preencher zeros reais. Deixar em branco o que está por apurar. Imputação ao dano por custo, sem percentagem territorial.
A4: Amarelo: requerente. Cinzento: cálculo. Lilás: CCDR. Não alterar os identificadores.
A6: ID artigo | B6: ID intervenção | C6: Descrição do artigo | D6: Natureza da despesa | E6: Unidade | F6: Quantidade | G6: Preço unitário sem IVA | H6: Subtotal sem IVA | I6: Taxa IVA | J6: IVA | K6: Total com IVA | L6: IVA recuperável | M6: Custo sem IVA imputável ao dano | N6: IVA não recuperável dessa parcela | O6: Fundamento IVA / rateio / preço zero | P6: Base da estimativa | Q6: DOC de suporte | R6: Recursos próprios excluídos | S6: Custo proposto para apoio | T6: Validação do artigo
A7: ART-001 | H7: =IF(B7="","",IF(COUNT(F7:G7)<2,"Por apurar",ROUND(F7*G7,2))) | J7: =IF(B7="","",IF(AND(ISNUMBER(H7),ISNUMBER(I7)),ROUND(H7*I7,2),"Por apurar")) | K7: =IF(B7="","",IF(AND(ISNUMBER(H7),ISNUMBER(J7)),H7+J7,"Por apurar")) | R7: =IF(B7="","",IF(COUNT(M7:N7)<2,"Por apurar",IF(OR(D7="Pessoal próprio",D7="Maquinaria própria"),SUM(M7:N7),0))) | S7: =IF(B7="","",IF(T7<>"OK","Por apurar",SUM(M7:N7)-R7)) | T7: =IF(COUNTA(B7:G7,I7,L7:Q7)=0,"",IF(NOT(COUNTIFS(Intervencoes!$A$7:$A$26,B7,Intervencoes!$B$7:$B$26,"<>")=1),"Rever ID intervenção",IF(OR(C7="",D7="",E7="",P7="",Q7="",COUNT(F7:G7,I7,L7:N7)<>6),"Faltam valores ou suporte",IF(OR(F7<=0,G7<0,I7<0,I7>1,L7<0,L7>J7,M7<0,M7>H7,N7<0,N7>J7-L7,N7>ROUND(M7*I7,2)),"Rever limites dos custos e IVA",IF(AND(OR(M7<H7,L7>0,N7<J7-L7,G7=0),O7=""),"Falta fundamento de IVA ou rateio",IF(COUNTIFS(Documentos!$A$7:$A$306,Q7,Documentos!$E$7:$E$306,"<>")<>1,"Falta documento de suporte","OK"))))))
A8: ART-002 | H8: =IF(B8="","",IF(COUNT(F8:G8)<2,"Por apurar",ROUND(F8*G8,2))) | J8: =IF(B8="","",IF(AND(ISNUMBER(H8),ISNUMBER(I8)),ROUND(H8*I8,2),"Por apurar")) | K8: =IF(B8="","",IF(AND(ISNUMBER(H8),ISNUMBER(J8)),H8+J8,"Por apurar")) | R8: =IF(B8="","",IF(COUNT(M8:N8)<2,"Por apurar",IF(OR(D8="Pessoal próprio",D8="Maquinaria própria"),SUM(M8:N8),0))) | S8: =IF(B8="","",IF(T8<>"OK","Por apurar",SUM(M8:N8)-R8)) | T8: =IF(COUNTA(B8:G8,I8,L8:Q8)=0,"",IF(NOT(COUNTIFS(Intervencoes!$A$7:$A$26,B8,Intervencoes!$B$7:$B$26,"<>")=1),"Rever ID intervenção",IF(OR(C8="",D8="",E8="",P8="",Q8="",COUNT(F8:G8,I8,L8:N8)<>6),"Faltam valores ou suporte",IF(OR(F8<=0,G8<0,I8<0,I8>1,L8<0,L8>J8,M8<0,M8>H8,N8<0,N8>J8-L8,N8>ROUND(M8*I8,2)),"Rever limites dos custos e IVA",IF(AND(OR(M8<H8,L8>0,N8<J8-L8,G8=0),O8=""),"Falta fundamento de IVA ou rateio",IF(COUNTIFS(Documentos!$A$7:$A$306,Q8,Documentos!$E$7:$E$306,"<>")<>1,"Falta documento de suporte","OK"))))))
A9: ART-003 | H9: =IF(B9="","",IF(COUNT(F9:G9)<2,"Por apurar",ROUND(F9*G9,2))) | J9: =IF(B9="","",IF(AND(ISNUMBER(H9),ISNUMBER(I9)),ROUND(H9*I9,2),"Por apurar")) | K9: =IF(B9="","",IF(AND(ISNUMBER(H9),ISNUMBER(J9)),H9+J9,"Por apurar")) | R9: =IF(B9="","",IF(COUNT(M9:N9)<2,"Por apurar",IF(OR(D9="Pessoal próprio",D9="Maquinaria própria"),SUM(M9:N9),0))) | S9: =IF(B9="","",IF(T9<>"OK","Por apurar",SUM(M9:N9)-R9)) | T9: =IF(COUNTA(B9:G9,I9,L9:Q9)=0,"",IF(NOT(COUNTIFS(Intervencoes!$A$7:$A$26,B9,Intervencoes!$B$7:$B$26,"<>")=1),"Rever ID intervenção",IF(OR(C9="",D9="",E9="",P9="",Q9="",COUNT(F9:G9,I9,L9:N9)<>6),"Faltam valores ou suporte",IF(OR(F9<=0,G9<0,I9<0,I9>1,L9<0,L9>J9,M9<0,M9>H9,N9<0,N9>J9-L9,N9>ROUND(M9*I9,2)),"Rever limites dos custos e IVA",IF(AND(OR(M9<H9,L9>0,N9<J9-L9,G9=0),O9=""),"Falta fundamento de IVA ou rateio",IF(COUNTIFS(Documentos!$A$7:$A$306,Q9,Documentos!$E$7:$E$306,"<>")<>1,"Falta documento de suporte","OK"))))))
A10: ART-004 | H10: =IF(B10="","",IF(COUNT(F10:G10)<2,"Por apurar",ROUND(F10*G10,2))) | J10: =IF(B10="","",IF(AND(ISNUMBER(H10),ISNUMBER(I10)),ROUND(H10*I10,2),"Por apurar")) | K10: =IF(B10="","",IF(AND(ISNUMBER(H10),ISNUMBER(J10)),H10+J10,"Por apurar")) | R10: =IF(B10="","",IF(COUNT(M10:N10)<2,"Por apurar",IF(OR(D10="Pessoal próprio",D10="Maquinaria própria"),SUM(M10:N10),0))) | S10: =IF(B10="","",IF(T10<>"OK","Por apurar",SUM(M10:N10)-R10)) | T10: =IF(COUNTA(B10:G10,I10,L10:Q10)=0,"",IF(NOT(COUNTIFS(Intervencoes!$A$7:$A$26,B10,Intervencoes!$B$7:$B$26,"<>")=1),"Rever ID intervenção",IF(OR(C10="",D10="",E10="",P10="",Q10="",COUNT(F10:G10,I10,L10:N10)<>6),"Faltam valores ou suporte",IF(OR(F10<=0,G10<0,I10<0,I10>1,L10<0,L10>J10,M10<0,M10>H10,N10<0,N10>J10-L10,N10>ROUND(M10*I10,2)),"Rever limites dos custos e IVA",IF(AND(OR(M10<H10,L10>0,N10<J10-L10,G10=0),O10=""),"Falta fundamento de IVA ou rateio",IF(COUNTIFS(Documentos!$A$7:$A$306,Q10,Documentos!$E$7:$E$306,"<>")<>1,"Falta documento de suporte","OK"))))))
A11: ART-005 | H11: =IF(B11="","",IF(COUNT(F11:G11)<2,"Por apurar",ROUND(F11*G11,2))) | J11: =IF(B11="","",IF(AND(ISNUMBER(H11),ISNUMBER(I11)),ROUND(H11*I11,2),"Por apurar")) | K11: =IF(B11="","",IF(AND(ISNUMBER(H11),ISNUMBER(J11)),H11+J11,"Por apurar")) | R11: =IF(B11="","",IF(COUNT(M11:N11)<2,"Por apurar",IF(OR(D11="Pessoal próprio",D11="Maquinaria própria"),SUM(M11:N11),0))) | S11: =IF(B11="","",IF(T11<>"OK","Por apurar",SUM(M11:N11)-R11)) | T11: =IF(COUNTA(B11:G11,I11,L11:Q11)=0,"",IF(NOT(COUNTIFS(Intervencoes!$A$7:$A$26,B11,Intervencoes!$B$7:$B$26,"<>")=1),"Rever ID intervenção",IF(OR(C11="",D11="",E11="",P11="",Q11="",COUNT(F11:G11,I11,L11:N11)<>6),"Faltam valores ou suporte",IF(OR(F11<=0,G11<0,I11<0,I11>1,L11<0,L11>J11,M11<0,M11>H11,N11<0,N11>J11-L11,N11>ROUND(M11*I11,2)),"Rever limites dos custos e IVA",IF(AND(OR(M11<H11,L11>0,N11<J11-L11,G11=0),O11=""),"Falta fundamento de IVA ou rateio",IF(COUNTIFS(Documentos!$A$7:$A$306,Q11,Documentos!$E$7:$E$306,"<>")<>1,"Falta documento de suporte","OK"))))))
A12: ART-006 | H12: =IF(B12="","",IF(COUNT(F12:G12)<2,"Por apurar",ROUND(F12*G12,2))) | J12: =IF(B12="","",IF(AND(ISNUMBER(H12),ISNUMBER(I12)),ROUND(H12*I12,2),"Por apurar")) | K12: =IF(B12="","",IF(AND(ISNUMBER(H12),ISNUMBER(J12)),H12+J12,"Por apurar")) | R12: =IF(B12="","",IF(COUNT(M12:N12)<2,"Por apurar",IF(OR(D12="Pessoal próprio",D12="Maquinaria própria"),SUM(M12:N12),0))) | S12: =IF(B12="","",IF(T12<>"OK","Por apurar",SUM(M12:N12)-R12)) | T12: =IF(COUNTA(B12:G12,I12,L12:Q12)=0,"",IF(NOT(COUNTIFS(Intervencoes!$A$7:$A$26,B12,Intervencoes!$B$7:$B$26,"<>")=1),"Rever ID intervenção",IF(OR(C12="",D12="",E12="",P12="",Q12="",COUNT(F12:G12,I12,L12:N12)<>6),"Faltam valores ou suporte",IF(OR(F12<=0,G12<0,I12<0,I12>1,L12<0,L12>J12,M12<0,M12>H12,N12<0,N12>J12-L12,N12>ROUND(M12*I12,2)),"Rever limites dos custos e IVA",IF(AND(OR(M12<H12,L12>0,N12<J12-L12,G12=0),O12=""),"Falta fundamento de IVA ou rateio",IF(COUNTIFS(Documentos!$A$7:$A$306,Q12,Documentos!$E$7:$E$306,"<>")<>1,"Falta documento de suporte","OK"))))))
A13: ART-007 | H13: =IF(B13="","",IF(COUNT(F13:G13)<2,"Por apurar",ROUND(F13*G13,2))) | J13: =IF(B13="","",IF(AND(ISNUMBER(H13),ISNUMBER(I13)),ROUND(H13*I13,2),"Por apurar")) | K13: =IF(B13="","",IF(AND(ISNUMBER(H13),ISNUMBER(J13)),H13+J13,"Por apurar")) | R13: =IF(B13="","",IF(COUNT(M13:N13)<2,"Por apurar",IF(OR(D13="Pessoal próprio",D13="Maquinaria própria"),SUM(M13:N13),0))) | S13: =IF(B13="","",IF(T13<>"OK","Por apurar",SUM(M13:N13)-R13)) | T13: =IF(COUNTA(B13:G13,I13,L13:Q13)=0,"",IF(NOT(COUNTIFS(Intervencoes!$A$7:$A$26,B13,Intervencoes!$B$7:$B$26,"<>")=1),"Rever ID intervenção",IF(OR(C13="",D13="",E13="",P13="",Q13="",COUNT(F13:G13,I13,L13:N13)<>6),"Faltam valores ou suporte",IF(OR(F13<=0,G13<0,I13<0,I13>1,L13<0,L13>J13,M13<0,M13>H13,N13<0,N13>J13-L13,N13>ROUND(M13*I13,2)),"Rever limites dos custos e IVA",IF(AND(OR(M13<H13,L13>0,N13<J13-L13,G13=0),O13=""),"Falta fundamento de IVA ou rateio",IF(COUNTIFS(Documentos!$A$7:$A$306,Q13,Documentos!$E$7:$E$306,"<>")<>1,"Falta documento de suporte","OK"))))))
A14: ART-008 | H14: =IF(B14="","",IF(COUNT(F14:G14)<2,"Por apurar",ROUND(F14*G14,2))) | J14: =IF(B14="","",IF(AND(ISNUMBER(H14),ISNUMBER(I14)),ROUND(H14*I14,2),"Por apurar")) | K14: =IF(B14="","",IF(AND(ISNUMBER(H14),ISNUMBER(J14)),H14+J14,"Por apurar")) | R14: =IF(B14="","",IF(COUNT(M14:N14)<2,"Por apurar",IF(OR(D14="Pessoal próprio",D14="Maquinaria própria"),SUM(M14:N14),0))) | S14: =IF(B14="","",IF(T14<>"OK","Por apurar",SUM(M14:N14)-R14)) | T14: =IF(COUNTA(B14:G14,I14,L14:Q14)=0,"",IF(NOT(COUNTIFS(Intervencoes!$A$7:$A$26,B14,Intervencoes!$B$7:$B$26,"<>")=1),"Rever ID intervenção",IF(OR(C14="",D14="",E14="",P14="",Q14="",COUNT(F14:G14,I14,L14:N14)<>6),"Faltam valores ou suporte",IF(OR(F14<=0,G14<0,I14<0,I14>1,L14<0,L14>J14,M14<0,M14>H14,N14<0,N14>J14-L14,N14>ROUND(M14*I14,2)),"Rever limites dos custos e IVA",IF(AND(OR(M14<H14,L14>0,N14<J14-L14,G14=0),O14=""),"Falta fundamento de IVA ou rateio",IF(COUNTIFS(Documentos!$A$7:$A$306,Q14,Documentos!$E$7:$E$306,"<>")<>1,"Falta documento de suporte","OK"))))))
